BEGIN:VCALENDAR
VERSION:2.0
PRODID:-//wp-events-plugin.com//7.2.3.1//EN
TZID:Europe/London
X-WR-TIMEZONE:Europe/London
BEGIN:VEVENT
UID:22@cycleipswich.org.uk
DTSTART;TZID=Europe/London:20150803T070000
DTEND;TZID=Europe/London:20150803T073000
DTSTAMP:20150731T173838Z
URL:https://cycleipswich.org.uk/events/bbc-radio-suffolk-interview-regardi
 ng-cycle-theft/
SUMMARY:BBC Radio Suffolk interview regarding Cycle Theft
DESCRIPTION:Shaun McDonald will be on BBC Radio Suffolk discussing cycle th
 eft in the town and county. Due to be on air shortly after the 7am news.
CATEGORIES:BBC Radio Suffolk,Media
LOCATION:BBC Suffolk\, Broadcasting House\, Ipswich\, Suffolk\, IP1 3EP\, U
 nited Kingdom
GEO:52.0601129;1.1472443000000112
X-APPLE-STRUCTURED-LOCATION;VALUE=URI;X-ADDRESS=Broadcasting House\, Ipswic
 h\, Suffolk\, IP1 3EP\, United Kingdom;X-APPLE-RADIUS=100;X-TITLE=BBC Suff
 olk:geo:52.0601129,1.1472443000000112
END:VEVENT
BEGIN:VTIMEZONE
TZID:Europe/London
X-LIC-LOCATION:Europe/London
BEGIN:DAYLIGHT
DTSTART:20150329T020000
TZOFFSETFROM:+0000
TZOFFSETTO:+0100
TZNAME:BST
END:DAYLIGHT
END:VTIMEZONE
END:VCALENDAR