BEGIN:VCALENDAR
VERSION:2.0
PRODID:-//wp-events-plugin.com//7.2.3.1//EN
TZID:Europe/London
X-WR-TIMEZONE:Europe/London
BEGIN:VEVENT
UID:10@cycleipswich.org.uk
DTSTART;TZID=Europe/London:20150416T193000
DTEND;TZID=Europe/London:20150416T210000
DTSTAMP:20150409T211751Z
URL:https://cycleipswich.org.uk/events/bike-buddy-scheme-working-group-mee
 ting/
SUMMARY:Bike Buddy scheme working group meeting
DESCRIPTION:Working group to discuss and publicise the bike buddy scheme\, 
 including writing content for the website.
CATEGORIES:Working Group
LOCATION:Shaun's House\, 32 Stokebridge Maltings\, Dock Street\, Ipswich\, 
 Suffolk\, IP2 8EU\, United Kingdom
GEO:52.0515736;1.1547501999999668
X-APPLE-STRUCTURED-LOCATION;VALUE=URI;X-ADDRESS=32 Stokebridge Maltings\, D
 ock Street\, Ipswich\, Suffolk\, IP2 8EU\, United Kingdom;X-APPLE-RADIUS=1
 00;X-TITLE=Shaun's House:geo:52.0515736,1.1547501999999668
END:VEVENT
BEGIN:VTIMEZONE
TZID:Europe/London
X-LIC-LOCATION:Europe/London
BEGIN:DAYLIGHT
DTSTART:20150329T020000
TZOFFSETFROM:+0000
TZOFFSETTO:+0100
TZNAME:BST
END:DAYLIGHT
END:VTIMEZONE
END:VCALENDAR