BEGIN:VCALENDAR
VERSION:2.0
PRODID:-//wp-events-plugin.com//7.2.3.1//EN
TZID:Europe/London
X-WR-TIMEZONE:Europe/London
BEGIN:VEVENT
UID:72@cycleipswich.org.uk
DTSTART;TZID=Europe/London;VALUE=DATE:20160611
DTEND;TZID=Europe/London;VALUE=DATE:20160620
DTSTAMP:20160211T212055Z
URL:https://cycleipswich.org.uk/events/bike-week-2016/
SUMMARY:Bike Week 2016
DESCRIPTION:Bike week 2016\n\nWe'll be holding some events this week. More 
 info closer to the time.
CATEGORIES:Bike Week
END:VEVENT
BEGIN:VTIMEZONE
TZID:Europe/London
X-LIC-LOCATION:Europe/London
BEGIN:DAYLIGHT
DTSTART:20160327T020000
TZOFFSETFROM:+0000
TZOFFSETTO:+0100
TZNAME:BST
END:DAYLIGHT
END:VTIMEZONE
END:VCALENDAR