BEGIN:VCALENDAR
VERSION:2.0
PRODID:-//wp-events-plugin.com//7.2.3.1//EN
TZID:Europe/London
X-WR-TIMEZONE:Europe/London
BEGIN:VEVENT
UID:15@cycleipswich.org.uk
DTSTART;TZID=Europe/London;VALUE=DATE:20150613
DTEND;TZID=Europe/London;VALUE=DATE:20150622
DTSTAMP:20150514T201308Z
URL:https://cycleipswich.org.uk/events/bike-week/
SUMMARY:Bike Week
DESCRIPTION:Bike week is a week of cycling events across the country. More 
 information at http://bikeweek.org.uk.\n\nSpecific Bike Week events in Ip
 swich will be added as separate events.
CATEGORIES:External
END:VEVENT
BEGIN:VTIMEZONE
TZID:Europe/London
X-LIC-LOCATION:Europe/London
BEGIN:DAYLIGHT
DTSTART:20150329T020000
TZOFFSETFROM:+0000
TZOFFSETTO:+0100
TZNAME:BST
END:DAYLIGHT
END:VTIMEZONE
END:VCALENDAR