BEGIN:VCALENDAR
VERSION:2.0
PRODID:-//wp-events-plugin.com//7.2.3.1//EN
TZID:Europe/London
X-WR-TIMEZONE:Europe/London
BEGIN:VEVENT
UID:42@cycleipswich.org.uk
DTSTART;TZID=Europe/London:20151024T110000
DTEND;TZID=Europe/London:20151024T130000
DTSTAMP:20151018T230906Z
URL:https://cycleipswich.org.uk/events/climate-ride-on-the-road-to-paris/
SUMMARY:Climate Ride - On the Road to Paris
DESCRIPTION:On the Road to Paris\n\nIpswich Cycle ride to show we care pass
 ionately about the UN Climate Agreement to be made in Paris in early Decem
 ber\n\nSaturday\, 24th October \n\nGlobal Day of Climate Action\n\nMeet i
 n front of Christchurch Mansion at 11 am sharp - Come in bright clothes!\n
 \nWe will gather for a photo and then we will cycle through town and finis
 h at Le Tour Café at 17 Tower Street\, Ipswich\n\nEVERYONE WELCOME! JOIN 
 IN!\n\nContact: 078 877 889 72  / 077 683 162 14\n\nFor more info: www.gr
 eenlivingcentre.org.uk/Bike\n\n350.org campaigns for an effective global\,
  climate change treaty.\n\n&nbsp\;\n\nPDF Poster
CATEGORIES:Bike Ride
LOCATION:Christchurch Mansion\, Christchurch Park\, Ipswich\, Suffolk\, Uni
 ted Kingdom
GEO:52.06037641460945;1.1580797738189403
X-APPLE-STRUCTURED-LOCATION;VALUE=URI;X-ADDRESS=Christchurch Park\, Ipswich
 \, Suffolk\, United Kingdom;X-APPLE-RADIUS=100;X-TITLE=Christchurch Mansio
 n:geo:52.06037641460945,1.1580797738189403
END:VEVENT
BEGIN:VTIMEZONE
TZID:Europe/London
X-LIC-LOCATION:Europe/London
BEGIN:DAYLIGHT
DTSTART:20150329T020000
TZOFFSETFROM:+0000
TZOFFSETTO:+0100
TZNAME:BST
END:DAYLIGHT
END:VTIMEZONE
END:VCALENDAR