BEGIN:VCALENDAR
VERSION:2.0
PRODID:-//wp-events-plugin.com//7.2.3.1//EN
TZID:Europe/London
X-WR-TIMEZONE:Europe/London
BEGIN:VEVENT
UID:16@cycleipswich.org.uk
DTSTART;TZID=Europe/London:20150627T093000
DTEND;TZID=Europe/London:20150627T130000
DTSTAMP:20150626T142543Z
URL:https://cycleipswich.org.uk/events/cycle-infrastructure-safari-routes-
 to-schools/
SUMMARY:Cycle Infrastructure Safari - Routes to schools
DESCRIPTION:Anna Matthews will lead a cycle infrastructure safari looking a
 t routes to schools\, including St Helen's School\, St Margaret's School\,
  Northgate\, and Copelstone High School.\n\nThe starting point for this ri
 de is outside the College on Rope Walk. Anna aims to complete the ride by
  lunchtime.
CATEGORIES:Site Visit
LOCATION:Rope Walk outside College\, Rope Walk\, Ipswich\, Suffolk\, United
  Kingdom
GEO:52.056002212368014;1.164987356622305
X-APPLE-STRUCTURED-LOCATION;VALUE=URI;X-ADDRESS=Rope Walk\, Ipswich\, Suffo
 lk\, United Kingdom;X-APPLE-RADIUS=100;X-TITLE=Rope Walk outside College:g
 eo:52.056002212368014,1.164987356622305
END:VEVENT
BEGIN:VTIMEZONE
TZID:Europe/London
X-LIC-LOCATION:Europe/London
BEGIN:DAYLIGHT
DTSTART:20150329T020000
TZOFFSETFROM:+0000
TZOFFSETTO:+0100
TZNAME:BST
END:DAYLIGHT
END:VTIMEZONE
END:VCALENDAR