BEGIN:VCALENDAR
VERSION:2.0
PRODID:-//wp-events-plugin.com//7.2.3.1//EN
TZID:Europe/London
X-WR-TIMEZONE:Europe/London
BEGIN:VEVENT
UID:92@cycleipswich.org.uk
DTSTART;TZID=Europe/London:20170112T193000
DTEND;TZID=Europe/London:20170112T210000
DTSTAMP:20170108T171526Z
URL:https://cycleipswich.org.uk/events/cycle-ipswich-2017-agm/
SUMMARY:Cycle Ipswich - 2017 AGM
DESCRIPTION:Our January meeting will be our AGM. No one will be up for any
  elections\, but we would like to determine our two cycle campaigns for 20
 17.\n\nThere will be a copy of the draft Ipswich cycle map for people to c
 omment on.\n\nCome along and have your say on our priorities for the year.
 \n\nPlease use the booking form below so that we have an idea of who will 
 be attending.
CATEGORIES:Monthly Meeting
LOCATION:La Tour Cycle Cafe\, Tower House\, 17 Tower Street\, Ipswich\, Suf
 folk\, United Kingdom
GEO:52.058223;1.155226999999968
X-APPLE-STRUCTURED-LOCATION;VALUE=URI;X-ADDRESS=Tower House\, 17 Tower Stre
 et\, Ipswich\, Suffolk\, United Kingdom;X-APPLE-RADIUS=100;X-TITLE=La Tour
  Cycle Cafe:geo:52.058223,1.155226999999968
END:VEVENT
BEGIN:VTIMEZONE
TZID:Europe/London
X-LIC-LOCATION:Europe/London
BEGIN:STANDARD
DTSTART:20161030T010000
TZOFFSETFROM:+0100
TZOFFSETTO:+0000
TZNAME:GMT
END:STANDARD
END:VTIMEZONE
END:VCALENDAR