BEGIN:VCALENDAR
VERSION:2.0
PRODID:-//wp-events-plugin.com//7.2.3.1//EN
TZID:Europe/London
X-WR-TIMEZONE:Europe/London
BEGIN:VEVENT
UID:3@cycleipswich.org.uk
DTSTART;TZID=Europe/London:20150409T193000
DTEND;TZID=Europe/London:20150409T210000
DTSTAMP:20150406T091323Z
URL:https://cycleipswich.org.uk/events/cycle-ipswich-april-monthly-meeting
 /
SUMMARY:Cycle Ipswich April 2015 Monthly Meeting
DESCRIPTION:April monthly meeting will have 2 main topics. First up we will
  have Paul Oxley from Abelio Greater Anglia to discuss Ipswich station and
  trains. Second is the proposed Bike Buddy scheme.\n\nAgenda (Google docs
  link)\n\nAhead of this meeting from 6:30pm to 7pm we will have a site vis
 it to the double roundabout at Norwich Road.
CATEGORIES:Monthly Meeting
LOCATION:ITO World Office\, 25 Lower Brook Street\, Ipswich\, Suffolk\, IP4
  1AQ\, United Kingdom
GEO:52.0545735;1.1557582000000366
X-APPLE-STRUCTURED-LOCATION;VALUE=URI;X-ADDRESS=25 Lower Brook Street\, Ips
 wich\, Suffolk\, IP4 1AQ\, United Kingdom;X-APPLE-RADIUS=100;X-TITLE=ITO W
 orld Office:geo:52.0545735,1.1557582000000366
END:VEVENT
BEGIN:VTIMEZONE
TZID:Europe/London
X-LIC-LOCATION:Europe/London
BEGIN:DAYLIGHT
DTSTART:20150329T020000
TZOFFSETFROM:+0000
TZOFFSETTO:+0100
TZNAME:BST
END:DAYLIGHT
END:VTIMEZONE
END:VCALENDAR