BEGIN:VCALENDAR
VERSION:2.0
PRODID:-//wp-events-plugin.com//7.2.3.1//EN
TZID:Europe/London
X-WR-TIMEZONE:Europe/London
BEGIN:VEVENT
UID:74@cycleipswich.org.uk
DTSTART;TZID=Europe/London:20160401T190000
DTEND;TZID=Europe/London:20160401T210000
DTSTAMP:20160330T194615Z
URL:https://cycleipswich.org.uk/events/cycle-ipswich-film-night-april-2016
 /
SUMMARY:Cycle Ipswich Film Night - April 2016
DESCRIPTION:Note the slightly earlier time of 7pm to make it a bit more fam
 ily friendly.\n\nFilm to be shown: Inspired to Ride\n\nFilm suggestions to
  info@cycleipswich.org.uk for future film nights.
CATEGORIES:Film night
LOCATION:La Tour Cycle Cafe\, Tower House\, 17 Tower Street\, Ipswich\, Suf
 folk\, United Kingdom
GEO:52.058223;1.155226999999968
X-APPLE-STRUCTURED-LOCATION;VALUE=URI;X-ADDRESS=Tower House\, 17 Tower Stre
 et\, Ipswich\, Suffolk\, United Kingdom;X-APPLE-RADIUS=100;X-TITLE=La Tour
  Cycle Cafe:geo:52.058223,1.155226999999968
END:VEVENT
BEGIN:VTIMEZONE
TZID:Europe/London
X-LIC-LOCATION:Europe/London
BEGIN:DAYLIGHT
DTSTART:20160327T020000
TZOFFSETFROM:+0000
TZOFFSETTO:+0100
TZNAME:BST
END:DAYLIGHT
END:VTIMEZONE
END:VCALENDAR