BEGIN:VCALENDAR
VERSION:2.0
PRODID:-//wp-events-plugin.com//7.2.3.1//EN
TZID:Europe/London
X-WR-TIMEZONE:Europe/London
BEGIN:VEVENT
UID:91@cycleipswich.org.uk
DTSTART;TZID=Europe/London:20170203T190000
DTEND;TZID=Europe/London:20170203T210000
DTSTAMP:20161015T225005Z
URL:https://cycleipswich.org.uk/events/cycle-ipswich-film-night-february-2
 017/
SUMMARY:Cycle Ipswich film night - February 2017
DESCRIPTION:Film Night: Paris Roubaix And The Hell Of The North\n\nPlease r
 egister below so that we have an idea of who is due to attend.\n\nFacebook
  event
CATEGORIES:Monthly Meeting
LOCATION:La Tour Cycle Cafe\, Tower House\, 17 Tower Street\, Ipswich\, Suf
 folk\, United Kingdom
GEO:52.058223;1.155226999999968
X-APPLE-STRUCTURED-LOCATION;VALUE=URI;X-ADDRESS=Tower House\, 17 Tower Stre
 et\, Ipswich\, Suffolk\, United Kingdom;X-APPLE-RADIUS=100;X-TITLE=La Tour
  Cycle Cafe:geo:52.058223,1.155226999999968
END:VEVENT
BEGIN:VTIMEZONE
TZID:Europe/London
X-LIC-LOCATION:Europe/London
BEGIN:STANDARD
DTSTART:20161030T010000
TZOFFSETFROM:+0100
TZOFFSETTO:+0000
TZNAME:GMT
END:STANDARD
END:VTIMEZONE
END:VCALENDAR