BEGIN:VCALENDAR
VERSION:2.0
PRODID:-//wp-events-plugin.com//7.2.3.1//EN
TZID:Europe/London
X-WR-TIMEZONE:Europe/London
BEGIN:VEVENT
UID:89@cycleipswich.org.uk
DTSTART;TZID=Europe/London:20161104T190000
DTEND;TZID=Europe/London:20161104T210000
DTSTAMP:20161015T223221Z
URL:https://cycleipswich.org.uk/events/cycle-ipswich-film-night-november-2
 016/
SUMMARY:Cycle Ipswich Film Night – November 2016
DESCRIPTION:Cycle Campaigns On Social Media hosted by Alex Oldman.\n\nA sel
 ection of films and related discussion about cycle campaigning and cycle i
 nfrastructure.\n\nPlease register below so that we have an idea of who is 
 due to attend.
CATEGORIES:Film night
LOCATION:La Tour Cycle Cafe\, Tower House\, 17 Tower Street\, Ipswich\, Suf
 folk\, United Kingdom
GEO:52.058223;1.155226999999968
X-APPLE-STRUCTURED-LOCATION;VALUE=URI;X-ADDRESS=Tower House\, 17 Tower Stre
 et\, Ipswich\, Suffolk\, United Kingdom;X-APPLE-RADIUS=100;X-TITLE=La Tour
  Cycle Cafe:geo:52.058223,1.155226999999968
END:VEVENT
BEGIN:VTIMEZONE
TZID:Europe/London
X-LIC-LOCATION:Europe/London
BEGIN:STANDARD
DTSTART:20161030T010000
TZOFFSETFROM:+0100
TZOFFSETTO:+0000
TZNAME:GMT
END:STANDARD
END:VTIMEZONE
END:VCALENDAR