BEGIN:VCALENDAR
VERSION:2.0
PRODID:-//wp-events-plugin.com//7.2.3.1//EN
TZID:Europe/London
X-WR-TIMEZONE:Europe/London
BEGIN:VEVENT
UID:88@cycleipswich.org.uk
DTSTART;TZID=Europe/London:20161007T190000
DTEND;TZID=Europe/London:20161007T210000
DTSTAMP:20161007T173642Z
URL:https://cycleipswich.org.uk/events/cycle-ipswich-film-night-october-20
 16/
SUMMARY:[cancelled] Cycle Ipswich Film Night - October 2016
DESCRIPTION:&nbsp\;\n\nUnfortunately due to unforeseen circumstances film n
 ight has been cancelled. Sorry about the short notice.\n\nAlex Oldman will
  be showing The Program\, which is the film of the David Walsh book "Seven
  Deadly Sins". It is about how Lance Armstrong won the Tour 7 times.\n\nIt
 's 103 minutes\, and rated 15 so not suitable for children or the squeamis
 h.
CATEGORIES:Film night
LOCATION:La Tour Cycle Cafe\, Tower House\, 17 Tower Street\, Ipswich\, Suf
 folk\, United Kingdom
GEO:52.058223;1.155226999999968
X-APPLE-STRUCTURED-LOCATION;VALUE=URI;X-ADDRESS=Tower House\, 17 Tower Stre
 et\, Ipswich\, Suffolk\, United Kingdom;X-APPLE-RADIUS=100;X-TITLE=La Tour
  Cycle Cafe:geo:52.058223,1.155226999999968
END:VEVENT
BEGIN:VTIMEZONE
TZID:Europe/London
X-LIC-LOCATION:Europe/London
BEGIN:DAYLIGHT
DTSTART:20160327T020000
TZOFFSETFROM:+0000
TZOFFSETTO:+0100
TZNAME:BST
END:DAYLIGHT
END:VTIMEZONE
END:VCALENDAR