BEGIN:VCALENDAR
VERSION:2.0
PRODID:-//wp-events-plugin.com//7.2.3.1//EN
TZID:Europe/London
X-WR-TIMEZONE:Europe/London
BEGIN:VEVENT
UID:107@cycleipswich.org.uk
DTSTART;TZID=Europe/London:20200602T200000
DTEND;TZID=Europe/London:20200602T213000
DTSTAMP:20200531T114628Z
URL:https://cycleipswich.org.uk/events/cycle-ipswich-meeting-2nd-june-2020
 /
SUMMARY:Cycle Ipswich Meeting - 2nd June 2020
DESCRIPTION:The next meeting to discuss the emergency changes to road infra
 structure to accommodate COVID-19 social distancing in the Greater Ipswich
  area.\n\nOpening Streets Issues and Solutions log\n\nIpswich Cells map\n\
 nGoogle Group thread\n\nThe remote meeting details are:\n\nJoin Zoom Meeti
 ng\n\nhttps://us02web.zoom.us/j/88426371045?pwd=SnFzQ3ducktObjlSanpYR1IzQm
 lrZz09\n\n&nbsp\;\n\nMeeting ID: 884 2637 1045\n\nPassword: education
CATEGORIES:Monthly Meeting
END:VEVENT
BEGIN:VTIMEZONE
TZID:Europe/London
X-LIC-LOCATION:Europe/London
BEGIN:DAYLIGHT
DTSTART:20200329T020000
TZOFFSETFROM:+0000
TZOFFSETTO:+0100
TZNAME:BST
END:DAYLIGHT
END:VTIMEZONE
END:VCALENDAR