BEGIN:VCALENDAR
VERSION:2.0
PRODID:-//wp-events-plugin.com//7.2.3.1//EN
TZID:Europe/London
X-WR-TIMEZONE:Europe/London
BEGIN:VEVENT
UID:108@cycleipswich.org.uk
DTSTART;TZID=Europe/London:20200609T200000
DTEND;TZID=Europe/London:20200609T213000
DTSTAMP:20200608T202327Z
URL:https://cycleipswich.org.uk/events/cycle-ipswich-meeting-june-2020-scc
 -announcement/
SUMMARY:Cycle Ipswich Meeting June 2020 SCC announcement
DESCRIPTION:Cycle Ipswich meeting to discuss the announcement by Suffolk Co
 unty Council of the new emergency improvements for walking and cycling.\n\
 nYou can join our Zoom Meeting\n\nhttps://us02web.zoom.us/j/82439188751?pw
 d=ZlVmekc0N0I4VnVoR2F0S2FlSkFpQT09\n\nMeeting ID: 824 3918 8751\n\nPasswor
 d: scc
CATEGORIES:Monthly Meeting
END:VEVENT
BEGIN:VTIMEZONE
TZID:Europe/London
X-LIC-LOCATION:Europe/London
BEGIN:DAYLIGHT
DTSTART:20200329T020000
TZOFFSETFROM:+0000
TZOFFSETTO:+0100
TZNAME:BST
END:DAYLIGHT
END:VTIMEZONE
END:VCALENDAR