BEGIN:VCALENDAR
VERSION:2.0
PRODID:-//wp-events-plugin.com//7.2.3.1//EN
TZID:Europe/London
X-WR-TIMEZONE:Europe/London
BEGIN:VEVENT
UID:114@cycleipswich.org.uk
DTSTART;TZID=Europe/London:20201201T200000
DTEND;TZID=Europe/London:20201201T213000
DTSTAMP:20201201T170239Z
URL:https://cycleipswich.org.uk/events/cycle-ipswich-meeting-suffolk-eatf-
 tranche-2-funding-allocation/
SUMMARY:POSTPONED: Cycle Ipswich meeting - Suffolk EATF tranche 2 funding a
 llocation
DESCRIPTION:UPDATE: This event has been postponed until the funding allocat
 ion is announced.\n\nDiscussion about the next EATF funding tranche alloca
 tion in Suffolk.\n\nThis will be an online meeting. Register below to get 
 the meeting details emailed closer to the event.
CATEGORIES:Council,Monthly Meeting,Suffolk County Council
END:VEVENT
BEGIN:VTIMEZONE
TZID:Europe/London
X-LIC-LOCATION:Europe/London
BEGIN:STANDARD
DTSTART:20201025T010000
TZOFFSETFROM:+0100
TZOFFSETTO:+0000
TZNAME:GMT
END:STANDARD
END:VTIMEZONE
END:VCALENDAR