BEGIN:VCALENDAR
VERSION:2.0
PRODID:-//wp-events-plugin.com//7.2.3.1//EN
TZID:Europe/London
X-WR-TIMEZONE:Europe/London
BEGIN:VEVENT
UID:65@cycleipswich.org.uk
DTSTART;TZID=Europe/London:20160114T193000
DTEND;TZID=Europe/London:20160114T210000
DTSTAMP:20160111T202713Z
URL:https://cycleipswich.org.uk/events/cycle-ipswich-monthly-meeting-janua
 ry-2016/
SUMMARY:Cycle Ipswich Monthly Meeting - January 2016
DESCRIPTION:The first monthly of 2016.\n\nAgenda:\n\n	Review of 2015\n	Plan
 s of 2016\n	Air Pollution - discuss new government proposal - discussion
  points by Charles Croydon\n
CATEGORIES:Monthly Meeting
LOCATION:La Tour Cycle Cafe\, Tower House\, 17 Tower Street\, Ipswich\, Suf
 folk\, United Kingdom
GEO:52.058223;1.155226999999968
X-APPLE-STRUCTURED-LOCATION;VALUE=URI;X-ADDRESS=Tower House\, 17 Tower Stre
 et\, Ipswich\, Suffolk\, United Kingdom;X-APPLE-RADIUS=100;X-TITLE=La Tour
  Cycle Cafe:geo:52.058223,1.155226999999968
END:VEVENT
BEGIN:VTIMEZONE
TZID:Europe/London
X-LIC-LOCATION:Europe/London
BEGIN:STANDARD
DTSTART:20151025T010000
TZOFFSETFROM:+0100
TZOFFSETTO:+0000
TZNAME:GMT
END:STANDARD
END:VTIMEZONE
END:VCALENDAR