BEGIN:VCALENDAR
VERSION:2.0
PRODID:-//wp-events-plugin.com//7.2.3.1//EN
TZID:Europe/London
X-WR-TIMEZONE:Europe/London
BEGIN:VEVENT
UID:30@cycleipswich.org.uk
DTSTART;TZID=Europe/London:20151112T193000
DTEND;TZID=Europe/London:20151112T210000
DTSTAMP:20151111T201045Z
URL:https://cycleipswich.org.uk/events/cycle-ipswich-monthly-meeting-novem
 ber-2015/
SUMMARY:Cycle Ipswich Monthly Meeting November 2015
DESCRIPTION:Agenda\n\nThis month will be a little different. There will be 
 a short discussion with a couple of agenda items\, and then a working grou
 p on the Key Ipswich Cycle Routes and 30 Year Vision documents. Please bri
 ng photos to be added\, and laptops/tablets to edit the documents.
CATEGORIES:Monthly Meeting
LOCATION:La Tour Cycle Cafe\, Tower House\, 17 Tower Street\, Ipswich\, Suf
 folk\, United Kingdom
GEO:52.058223;1.155226999999968
X-APPLE-STRUCTURED-LOCATION;VALUE=URI;X-ADDRESS=Tower House\, 17 Tower Stre
 et\, Ipswich\, Suffolk\, United Kingdom;X-APPLE-RADIUS=100;X-TITLE=La Tour
  Cycle Cafe:geo:52.058223,1.155226999999968
END:VEVENT
BEGIN:VTIMEZONE
TZID:Europe/London
X-LIC-LOCATION:Europe/London
BEGIN:STANDARD
DTSTART:20151025T010000
TZOFFSETFROM:+0100
TZOFFSETTO:+0000
TZNAME:GMT
END:STANDARD
END:VTIMEZONE
END:VCALENDAR