BEGIN:VCALENDAR
VERSION:2.0
PRODID:-//wp-events-plugin.com//7.2.3.1//EN
TZID:Europe/London
X-WR-TIMEZONE:Europe/London
BEGIN:VEVENT
UID:24@cycleipswich.org.uk
DTSTART;TZID=Europe/London:20150910T193000
DTEND;TZID=Europe/London:20150910T210000
DTSTAMP:20150831T223134Z
URL:https://cycleipswich.org.uk/events/cycle-ipswich-september-2015-monthl
 y-meeting/
SUMMARY:Cycle Ipswich September 2015 Monthly Meeting
DESCRIPTION:September Monthly Meeting.
CATEGORIES:Monthly Meeting
LOCATION:La Tour Cycle Cafe\, Tower House\, 17 Tower Street\, Ipswich\, Suf
 folk\, United Kingdom
GEO:52.058223;1.155226999999968
X-APPLE-STRUCTURED-LOCATION;VALUE=URI;X-ADDRESS=Tower House\, 17 Tower Stre
 et\, Ipswich\, Suffolk\, United Kingdom;X-APPLE-RADIUS=100;X-TITLE=La Tour
  Cycle Cafe:geo:52.058223,1.155226999999968
END:VEVENT
BEGIN:VTIMEZONE
TZID:Europe/London
X-LIC-LOCATION:Europe/London
BEGIN:DAYLIGHT
DTSTART:20150329T020000
TZOFFSETFROM:+0000
TZOFFSETTO:+0100
TZNAME:BST
END:DAYLIGHT
END:VTIMEZONE
END:VCALENDAR