BEGIN:VCALENDAR
VERSION:2.0
PRODID:-//wp-events-plugin.com//7.2.3.1//EN
TZID:Europe/London
X-WR-TIMEZONE:Europe/London
BEGIN:VEVENT
UID:14@cycleipswich.org.uk
DTSTART;TZID=Europe/London:20150530T100000
DTEND;TZID=Europe/London:20150530T190000
DTSTAMP:20150529T114106Z
URL:https://cycleipswich.org.uk/events/ipswich-cycle-infrastructure-safari
 /
SUMMARY:Ipswich Cycle Infrastructure Safari
DESCRIPTION:Start Ipswich Station 10am for a 10:15 departure. We'll start w
 ith talking around the station\, thus if you are late\, you'll probably fi
 nd us or can phone Shaun on 07879610632.\n\nWhat is a Cycle Infrastructure
  Safari?\n\nA show and tell cycle ride with regular stops to look at exam
 ples of cycle infrastructure in a town. At the stops we discuss and debate
  the road infrastructure\, looking at ways on how to improve what is curre
 ntly existing\, or how we'd suggest implementing it differently if somethi
 ng similar was implemented elsewhere.\n\nItinerary\n\nIn the morning we pl
 an to look at the station\, London\, Suffolk One\, Hawthorn Drive\, Bourne
  Park\, and then head via the waterfront to lunch at The Brewery Tap. Loca
 l drinks and food available. A table is booked\, thus an indication of num
 bers would be useful to ensure enough seats are available\, by filling in 
 the booking form below.\n\nFor the afternoon we'll follow National Cycle 
 Route 1 out to the hospital\, follow the ring road past a major shopping a
 rea\, to Ravenswood\, and finally head back into town. Ravenswood is an ar
 ea of very high cycle to school rates and is designed to promote walking a
 nd cycling over the car.\n\nAim to be complete around 5 pm where people c
 an join us in Arlingtons for a debrief and chat about the day. There is at
  least 1 person who is unable to attend the earlier part of the day due to
  other commitments who will join us at this point.\n\nOptionally if people
  would like to stay for another day\, further tours of Ipswich are availab
 le.\n\nGetting to Ipswich by train\n\nIpswich is served by Abellio Greater
  Anglia trains with direct connections to London Liverpool Street\, Felixs
 towe\, Lowestoft\, Norwich\, Cambridge\, and Peterborough for the East Coa
 st mainline. There are no known railworks this weekend.\n\nFor people trav
 elling from London\, if you are returning the same day\, it is recommended
  that you split your train ticket in Manningtree for a significant saving 
 of £6.10. (£27.50+£6.20=£33.70 instead of £39.80 for the London to Ip
 swich off peak return [no day return]). If you have a Network Railcard\, t
 he saving is much more at £15.45 (£18.15+£6.20=£24.35). Advance fares 
 are available which may be cheaper than the walk up fares.\n\nThere is a g
 uards van at the north end of the Ipswich to Norwich trains.\n\nTrain arri
 val times (depart origin - arrive Ipswich):\n\nLondon Liverpool Street (3 
 per hour)\n08:30 - 09:43 (via Stratford\, Chelmsford\, Colchester\, Manni
 ngtree)\n09:00 - 10:07 (via Colchester\, Manningtree)\n(Also a slow stopp
 ing service\, which is not recommended due to poor bike provision)\n\nNorw
 ich (2 per hour)\n09:00 - 09:41 (via Diss\, Stowmarket)\n09:30 - 10:09 (Vi
 a Diss)\n\nCambridge (hourly)\n08:44 - 10:02 (via Newmarket\, Kennet\, Bur
 y St Edmunds\, Thurston\, Elmswell\, Stowmarket\, Needham Market)\n\nPeter
 borough (1 train per 2 hours)\n07:50 - 09:28 (via Whittlesea\, March\, Man
 ea\, Ely\, Bury St Edmunds\, Stowmarket)\n\nFelixstowe (hourly)\n09:28 - 0
 9:53 (via Trimley\, Derby Road\, Westerfield)
CATEGORIES:Site Visit
LOCATION:Ipswich Railway Station\, Ipswich Railway Station\, Ipswich\, Unit
 ed Kingdom
GEO:52.050664;1.1453940000000102
X-APPLE-STRUCTURED-LOCATION;VALUE=URI;X-ADDRESS=Ipswich Railway Station\, I
 pswich\, United Kingdom;X-APPLE-RADIUS=100;X-TITLE=Ipswich Railway Station
 :geo:52.050664,1.1453940000000102
END:VEVENT
BEGIN:VTIMEZONE
TZID:Europe/London
X-LIC-LOCATION:Europe/London
BEGIN:DAYLIGHT
DTSTART:20150329T020000
TZOFFSETFROM:+0000
TZOFFSETTO:+0100
TZNAME:BST
END:DAYLIGHT
END:VTIMEZONE
END:VCALENDAR