BEGIN:VCALENDAR
VERSION:2.0
PRODID:-//wp-events-plugin.com//7.2.3.1//EN
TZID:Europe/London
X-WR-TIMEZONE:Europe/London
BEGIN:VEVENT
UID:115@cycleipswich.org.uk
DTSTART;TZID=Europe/London:20210316T200000
DTEND;TZID=Europe/London:20210316T213000
DTSTAMP:20210314T104711Z
URL:https://cycleipswich.org.uk/events/ipswich-cycling-and-walking-charter
 -next-steps/
SUMMARY:Ipswich Cycling and Walking Charter - Next Steps
DESCRIPTION:Meeting to discuss the next steps for the Ipswich Cycling and W
 alking Charter.\n\nWe are meeting on Zoom:\n\nJoin Zoom Meeting\n\nhttps:/
 /us02web.zoom.us/j/84111502248?pwd=KzJsVWdpdnl4bksrRE1qNUJISFI0dz09\n\nMee
 ting ID: 843 2839 2809\n\nPasscode: ICWC
CATEGORIES:Ipswich Cycling and Walking Charter,Working Group
LOCATION:https://us02web.zoom.us/j/84328392809?pwd=dHNkeG1mZjI3MUZ3RW1wT2Zs
 VmNWQT09
END:VEVENT
BEGIN:VTIMEZONE
TZID:Europe/London
X-LIC-LOCATION:Europe/London
BEGIN:STANDARD
DTSTART:20201025T010000
TZOFFSETFROM:+0100
TZOFFSETTO:+0000
TZNAME:GMT
END:STANDARD
END:VTIMEZONE
END:VCALENDAR