BEGIN:VCALENDAR
VERSION:2.0
PRODID:-//wp-events-plugin.com//7.2.3.1//EN
TZID:Europe/London
X-WR-TIMEZONE:Europe/London
BEGIN:VEVENT
UID:95@cycleipswich.org.uk
DTSTART;TZID=Europe/London:20170323T193000
DTEND;TZID=Europe/London:20170323T210000
DTSTAMP:20170317T215123Z
URL:https://cycleipswich.org.uk/events/monthly-meeting-23rd-march-7-30-pm-
 la-tour-cycle-cafe-tower-st-ipswich/
SUMMARY:Monthly Meeting 23rd March 7.30 pm La Tour Cycle Cafe Tower St Ipsw
 ich
DESCRIPTION:Draft agenda\n1.The direction of CI for 2017. 2.Web presence. 3
 .Work on cyclescape and master map 4 . Attracting people to get involved !
 \n \nAnything else people would like to discuss ??
CATEGORIES:Monthly Meeting
LOCATION:La Tour Cycle Cafe\, Tower House\, 17 Tower Street\, Ipswich\, Suf
 folk\, United Kingdom
GEO:52.058223;1.155226999999968
X-APPLE-STRUCTURED-LOCATION;VALUE=URI;X-ADDRESS=Tower House\, 17 Tower Stre
 et\, Ipswich\, Suffolk\, United Kingdom;X-APPLE-RADIUS=100;X-TITLE=La Tour
  Cycle Cafe:geo:52.058223,1.155226999999968
END:VEVENT
BEGIN:VTIMEZONE
TZID:Europe/London
X-LIC-LOCATION:Europe/London
BEGIN:STANDARD
DTSTART:20161030T010000
TZOFFSETFROM:+0100
TZOFFSETTO:+0000
TZNAME:GMT
END:STANDARD
END:VTIMEZONE
END:VCALENDAR