BEGIN:VCALENDAR
VERSION:2.0
PRODID:-//wp-events-plugin.com//7.2.3.1//EN
TZID:Europe/London
X-WR-TIMEZONE:Europe/London
BEGIN:VEVENT
UID:36@cycleipswich.org.uk
DTSTART;TZID=Europe/London:20151112T193000
DTEND;TZID=Europe/London:20151112T210000
DTSTAMP:20151027T141214Z
URL:https://cycleipswich.org.uk/events/north-east-area-committee-november-
 2015/
SUMMARY:North East Area Committee - November 2015
DESCRIPTION:More info Check details in the week before the meeting
CATEGORIES:Area Committees,Council,External,Ipswich Borough Council,North
 East Area Committee
END:VEVENT
BEGIN:VTIMEZONE
TZID:Europe/London
X-LIC-LOCATION:Europe/London
BEGIN:STANDARD
DTSTART:20151025T010000
TZOFFSETFROM:+0100
TZOFFSETTO:+0000
TZNAME:GMT
END:STANDARD
END:VTIMEZONE
END:VCALENDAR