BEGIN:VCALENDAR
VERSION:2.0
PRODID:-//wp-events-plugin.com//7.2.3.1//EN
TZID:Europe/London
X-WR-TIMEZONE:Europe/London
BEGIN:VEVENT
UID:111@cycleipswich.org.uk
DTSTART;TZID=Europe/London:20200822T110000
DTEND;TZID=Europe/London:20200822T130000
DTSTAMP:20200821T160241Z
URL:https://cycleipswich.org.uk/events/photoshoot-of-people-shopping-by-bi
 ke/
SUMMARY:Photoshoot of people shopping by bike
DESCRIPTION:Cycle Ipswich are looking to create some video and photo footag
 e for publicity of people cycling to do shopping. If you'd like to be feat
 ured please come along with some shopping on your bike.\n\nOn Saturday the
  Senior Creative Camera Operative for what was Team Sky\, Sky Ride and Bri
 tish Cycling will be joining me in the area around 19 Tower Street - Ipswi
 ch Ripple Food Coop / Citizens Advice Bureau to help produce some video co
 ntent to promote cycling in Ipswich. The focus this Saturday will be shopp
 ing by bike. What we need are bicycle shoppers. If you possibly can\, plea
 se do help by coming along between about 11 and 1 with your bicycles\, bac
 k packs\, panniers\, cargo bikes etc.\n\nI don't know how it's possible to
  ask you not to all come at once but please remember to follow social dist
 ancing guidelines.\n\nMuch appreciated\, Dave\n\nMore info: https://groups
 .google.com/g/cycle-ipswich/c/8Lvpt6zh2i8
CATEGORIES:Photoshoot
LOCATION:Ipswich Ripple Food Co-op - Tower Street\, 19 Tower Street\, Ipswi
 ch\, IP1 3BE\, United Kingdom
X-APPLE-STRUCTURED-LOCATION;VALUE=URI;X-ADDRESS=19 Tower Street\, Ipswich\,
  IP1 3BE\, United Kingdom;X-APPLE-RADIUS=100;X-TITLE=Ipswich Ripple Food C
 o-op - Tower Street:geo:0,0
END:VEVENT
BEGIN:VTIMEZONE
TZID:Europe/London
X-LIC-LOCATION:Europe/London
BEGIN:DAYLIGHT
DTSTART:20200329T020000
TZOFFSETFROM:+0000
TZOFFSETTO:+0100
TZNAME:BST
END:DAYLIGHT
END:VTIMEZONE
END:VCALENDAR