BEGIN:VCALENDAR
VERSION:2.0
PRODID:-//wp-events-plugin.com//7.2.3.1//EN
TZID:Europe/London
X-WR-TIMEZONE:Europe/London
BEGIN:VEVENT
UID:33@cycleipswich.org.uk
DTSTART;TZID=Europe/London:20160121T183000
DTEND;TZID=Europe/London:20160121T183000
DTSTAMP:20151017T225946Z
URL:https://cycleipswich.org.uk/events/south-west-area-committee-january-2
 016/
SUMMARY:South West Area Committee - January 2016
DESCRIPTION:More info - check details during the week before the meeting.
CATEGORIES:Area Committees,Council,External,Ipswich Borough Council,South
 West Area Committee
LOCATION:Grafton House\, Grafton House\, Ipswich\, Suffolk\, United Kingdom
GEO:52.0536168;1.14341909999996
X-APPLE-STRUCTURED-LOCATION;VALUE=URI;X-ADDRESS=Grafton House\, Ipswich\, S
 uffolk\, United Kingdom;X-APPLE-RADIUS=100;X-TITLE=Grafton House:geo:52.05
 36168,1.14341909999996
END:VEVENT
BEGIN:VTIMEZONE
TZID:Europe/London
X-LIC-LOCATION:Europe/London
BEGIN:STANDARD
DTSTART:20151025T010000
TZOFFSETFROM:+0100
TZOFFSETTO:+0000
TZNAME:GMT
END:STANDARD
END:VTIMEZONE
END:VCALENDAR