BEGIN:VCALENDAR
VERSION:2.0
PRODID:-//wp-events-plugin.com//7.2.3.1//EN
TZID:Europe/London
X-WR-TIMEZONE:Europe/London
BEGIN:VEVENT
UID:32@cycleipswich.org.uk
DTSTART;TZID=Europe/London:20151105T183000
DTEND;TZID=Europe/London:20151105T210000
DTSTAMP:20151017T225946Z
URL:https://cycleipswich.org.uk/events/south-west-area-committee-november-
 2015/
SUMMARY:South West Area Committee - November 2015
DESCRIPTION:More info - Check during the week before the meeting.
CATEGORIES:Area Committees,Council,External,Ipswich Borough Council,South
 West Area Committee
LOCATION:St Francis Church\, 192 Hawthorn Drive\, Ipswich\, Suffolk\, IP2 0
 QQ\, United Kingdom
GEO:52.0463848;1.122074600000019
X-APPLE-STRUCTURED-LOCATION;VALUE=URI;X-ADDRESS=192 Hawthorn Drive\, Ipswic
 h\, Suffolk\, IP2 0QQ\, United Kingdom;X-APPLE-RADIUS=100;X-TITLE=St Franc
 is Church:geo:52.0463848,1.122074600000019
END:VEVENT
BEGIN:VTIMEZONE
TZID:Europe/London
X-LIC-LOCATION:Europe/London
BEGIN:STANDARD
DTSTART:20151025T010000
TZOFFSETFROM:+0100
TZOFFSETTO:+0000
TZNAME:GMT
END:STANDARD
END:VTIMEZONE
END:VCALENDAR