BEGIN:VCALENDAR
VERSION:2.0
PRODID:-//wp-events-plugin.com//7.2.3.1//EN
TZID:Europe/London
X-WR-TIMEZONE:Europe/London
BEGIN:VEVENT
UID:116@cycleipswich.org.uk
DTSTART;TZID=Europe/London:20220524T193000
DTEND;TZID=Europe/London:20220524T210000
DTSTAMP:20220508T213219Z
URL:https://cycleipswich.org.uk/events/suffolk-county-council-active-trave
 l-fund-progress-update/
SUMMARY:Suffolk County Council Active Travel Fund progress update
DESCRIPTION:Update from Suffolk County Council to discuss their progress wi
 th the Active Travel Fund.\n\nOnline meeting.
CATEGORIES:Suffolk County Council
LOCATION:https://meet.jit.si/HumorousPadsPresumeExtremely
END:VEVENT
BEGIN:VTIMEZONE
TZID:Europe/London
X-LIC-LOCATION:Europe/London
BEGIN:DAYLIGHT
DTSTART:20220327T020000
TZOFFSETFROM:+0000
TZOFFSETTO:+0100
TZNAME:BST
END:DAYLIGHT
END:VTIMEZONE
END:VCALENDAR