BEGIN:VCALENDAR
VERSION:2.0
PRODID:-//wp-events-plugin.com//7.2.3.1//EN
TZID:Europe/London
X-WR-TIMEZONE:Europe/London
BEGIN:VEVENT
UID:64@cycleipswich.org.uk
DTSTART;TZID=Europe/London:20151218T170000
DTEND;TZID=Europe/London:20151218T190000
DTSTAMP:20151217T181123Z
URL:https://cycleipswich.org.uk/events/weekly-friday-evening-cycle-surgery
 -at-la-tour-2015-12-18/
SUMMARY:CANCELLED: Weekly Friday Evening Cycle Surgery at La Tour
DESCRIPTION:This event has been CANCELLED. There will likely be more in the
  new year on a less frequent basis.\n\nCycle Surgery by the Bike Doctor\n\
 nEvery Friday Evening 5-7pm at\n\nLa Tour Cycle Cafe\n\nFREE Doctor Bike 
 Check\n\nRepairs and Spares Available\n\nLate coffee\, hot chocolate\, and
  chat\n\nwww.bicycledoctor.gbr.fm\n\n07887788972
CATEGORIES:Cycle Surgery
LOCATION:La Tour Cycle Cafe\, Tower House\, 17 Tower Street\, Ipswich\, Suf
 folk\, United Kingdom
GEO:52.058223;1.155226999999968
X-APPLE-STRUCTURED-LOCATION;VALUE=URI;X-ADDRESS=Tower House\, 17 Tower Stre
 et\, Ipswich\, Suffolk\, United Kingdom;X-APPLE-RADIUS=100;X-TITLE=La Tour
  Cycle Cafe:geo:52.058223,1.155226999999968
END:VEVENT
BEGIN:VTIMEZONE
TZID:Europe/London
X-LIC-LOCATION:Europe/London
BEGIN:STANDARD
DTSTART:20151025T010000
TZOFFSETFROM:+0100
TZOFFSETTO:+0000
TZNAME:GMT
END:STANDARD
END:VTIMEZONE
END:VCALENDAR